BEGIN:VCALENDAR
VERSION:2.0
PRODID:-//John &amp; Paul Ministries - ECPv6.15.20//NONSGML v1.0//EN
CALSCALE:GREGORIAN
METHOD:PUBLISH
X-WR-CALNAME:John &amp; Paul Ministries
X-ORIGINAL-URL:https://johnandpaulministries.com
X-WR-CALDESC:Events for John &amp; Paul Ministries
REFRESH-INTERVAL;VALUE=DURATION:PT1H
X-Robots-Tag:noindex
X-PUBLISHED-TTL:PT1H
BEGIN:VTIMEZONE
TZID:America/Chicago
BEGIN:DAYLIGHT
TZOFFSETFROM:-0600
TZOFFSETTO:-0500
TZNAME:CDT
DTSTART:20240310T080000
END:DAYLIGHT
BEGIN:STANDARD
TZOFFSETFROM:-0500
TZOFFSETTO:-0600
TZNAME:CST
DTSTART:20241103T070000
END:STANDARD
BEGIN:DAYLIGHT
TZOFFSETFROM:-0600
TZOFFSETTO:-0500
TZNAME:CDT
DTSTART:20250309T080000
END:DAYLIGHT
BEGIN:STANDARD
TZOFFSETFROM:-0500
TZOFFSETTO:-0600
TZNAME:CST
DTSTART:20251102T070000
END:STANDARD
BEGIN:DAYLIGHT
TZOFFSETFROM:-0600
TZOFFSETTO:-0500
TZNAME:CDT
DTSTART:20260308T080000
END:DAYLIGHT
BEGIN:STANDARD
TZOFFSETFROM:-0500
TZOFFSETTO:-0600
TZNAME:CST
DTSTART:20261101T070000
END:STANDARD
BEGIN:DAYLIGHT
TZOFFSETFROM:-0600
TZOFFSETTO:-0500
TZNAME:CDT
DTSTART:20270314T080000
END:DAYLIGHT
BEGIN:STANDARD
TZOFFSETFROM:-0500
TZOFFSETTO:-0600
TZNAME:CST
DTSTART:20271107T070000
END:STANDARD
END:VTIMEZONE
BEGIN:VEVENT
DTSTART;TZID=America/Chicago:20260307T120000
DTEND;TZID=America/Chicago:20260307T150000
DTSTAMP:20260425T064310
CREATED:20260211T203326Z
LAST-MODIFIED:20260211T203632Z
UID:3343-1772884800-1772895600@johnandpaulministries.com
SUMMARY:2026 Daylight Saving Canvass
DESCRIPTION:Join us for our Daylight Saving Community Canvass! Coming up on Saturday\, March 7\, 2026\, we will meet at 12 pm for pizza before heading out to share information about upcoming service times for the Lent and Easter season starting at 1 pm. \nIf you are able to join us\, please sign up so that we know how much pizza to order! We hope to see you there as we head out in the community to invite our neighbors to hear about their Savior!
URL:https://johnandpaulministries.com/event/2026-daylight-saving-canvass
LOCATION:St. Paul’s Lutheran Church\, 201 N State St\, New Ulm\, MN\, 56073\, United States
CATEGORIES:Ministry Events
END:VEVENT
BEGIN:VEVENT
DTSTART;TZID=America/Chicago:20260124T143000
DTEND;TZID=America/Chicago:20260124T170000
DTSTAMP:20260425T064310
CREATED:20251205T145158Z
LAST-MODIFIED:20251205T155812Z
UID:3320-1769265000-1769274000@johnandpaulministries.com
SUMMARY:2026 Winter Carnival
DESCRIPTION:Come to John and Paul Ministries’ Winter Carnival: Winter Olympics for indoor fun during cold January! This event on January 24 from 2:30-5:00 pm at St Paul’s School features indoor bounce houses\, Olympic-themed games\, snacks and “Italian ice” snow cones\, “biathlon” races\, and gift cards awarded throughout the whole event! \nCan’t wait to see you there and bring a friend! \nLooking to volunteer? Please visit https://forms.gle/v2YcdHYxDYV3cBEM9 and sign up today to help us out!
URL:https://johnandpaulministries.com/event/2026-winter-carnival
LOCATION:St. Paul’s Lutheran School\, 126 S Payne St\, New Ulm\, MN\, 56073\, United States
CATEGORIES:Ministry Events
END:VEVENT
BEGIN:VEVENT
DTSTART;TZID=America/Chicago:20251128T180000
DTEND;TZID=America/Chicago:20251128T190000
DTSTAMP:20260425T064310
CREATED:20250624T185039Z
LAST-MODIFIED:20251022T185845Z
UID:3247-1764352800-1764356400@johnandpaulministries.com
SUMMARY:2025 Parade of Lights
DESCRIPTION:Walk\, ride\, or sing with John & Paul Ministries in the Parade of Lights\, on Friday\, November 28th at 6:00 pm! We need many volunteers so please register at https://forms.gle/h6GQWw2iHX3rQDez9 to sign up and receive more detailed info. Help us invite our community to hear about Jesus this Christmas! \nSign up to volunteer today!
URL:https://johnandpaulministries.com/event/2025-parade-of-lights
LOCATION:MN
CATEGORIES:Ministry Events
END:VEVENT
BEGIN:VEVENT
DTSTART;TZID=America/Chicago:20250906T170000
DTEND;TZID=America/Chicago:20250906T210000
DTSTAMP:20260425T064310
CREATED:20250624T184915Z
LAST-MODIFIED:20250724T170825Z
UID:3245-1757178000-1757192400@johnandpaulministries.com
SUMMARY:2025 Summer Send Off
DESCRIPTION:Join us for the 2025 Summer Send Off at St. Paul’s Lutheran School! Food\, fellowship\, bounce houses\, games\, and more from 5 – 7 pm and then stay for our outdoor worship service starting at 7:15 pm. Looking for a place to stay for the Hermannfest Fireworks? Just stick around in the parking lot and have one of the best views in New Ulm! \nPlease Donate Items (Google Form) \nPlease Sign-up to Volunteer (Google Form)
URL:https://johnandpaulministries.com/event/2025-summer-send-off
LOCATION:St. Paul’s Lutheran School\, 126 S Payne St\, New Ulm\, MN\, 56073\, United States
CATEGORIES:Ministry Events
END:VEVENT
BEGIN:VEVENT
DTSTART;TZID=America/Chicago:20250720T123000
DTEND;TZID=America/Chicago:20250720T143000
DTSTAMP:20260425T064310
CREATED:20250623T193059Z
LAST-MODIFIED:20250624T185431Z
UID:3242-1753014600-1753021800@johnandpaulministries.com
SUMMARY:2025 Bavarian Blast Parade
DESCRIPTION:Join us in walking in the Bavarian Blast Parade on July 20\, 2025. The parade takes off around 12:30 pm and so we will aim to line up around 12 pm. \nSign up to walk at https://forms.gle/96VYMiLdFrxW6HPx8 and we will send you more information on where to meet up when we have the information!
URL:https://johnandpaulministries.com/event/2025-bavarian-blast-parade
LOCATION:MN
CATEGORIES:Ministry Events
END:VEVENT
BEGIN:VEVENT
DTSTART;VALUE=DATE:20250609
DTEND;VALUE=DATE:20250613
DTSTAMP:20260425T064310
CREATED:20250321T211508Z
LAST-MODIFIED:20250321T211552Z
UID:3230-1749427200-1749772799@johnandpaulministries.com
SUMMARY:2025 Soccer Camp: Shine Like Stars
DESCRIPTION:Join us for the 2025 Soccer Camp on June 9-12 at the Martin Luther College Athletic Fields. For more information\, visit https://johnandpaulministries.com/soccer-camp.
URL:https://johnandpaulministries.com/event/2025-soccer-camp-shine-like-stars
LOCATION:MN
CATEGORIES:Ministry Events
END:VEVENT
END:VCALENDAR